BEGIN:VCALENDAR
VERSION:2.0
PRODID:-//FutureBeef - ECPv6.5.1.5//NONSGML v1.0//EN
CALSCALE:GREGORIAN
METHOD:PUBLISH
X-ORIGINAL-URL:https://futurebeef.com.au
X-WR-CALDESC:Events for FutureBeef
REFRESH-INTERVAL;VALUE=DURATION:PT1H
X-Robots-Tag:noindex
X-PUBLISHED-TTL:PT1H
BEGIN:VTIMEZONE
TZID:Australia/Brisbane
BEGIN:STANDARD
TZOFFSETFROM:+1000
TZOFFSETTO:+1000
TZNAME:AEST
DTSTART:20240101T000000
END:STANDARD
END:VTIMEZONE
BEGIN:VEVENT
DTSTART;TZID=Australia/Brisbane:20240606T080000
DTEND;TZID=Australia/Brisbane:20240607T170000
DTSTAMP:20260424T033337
CREATED:20231109T031720Z
LAST-MODIFIED:20240812T053547Z
UID:57098-1717660800-1717779600@futurebeef.com.au
SUMMARY:Business EDGE- Cunnamulla
DESCRIPTION:Business EDGE- Cunnamulla\nGet your head around more of the ‘business side’ of your business… \nDate: 6-7 June 2024 \nTime: 8.30am to 5.00pm both days \nVenue: Cunnamulla\, QLD \nPresenter: Simone Parker and Sally Finch\, Bush AgriBusiness \n  \nCost: $1\,750 + GST or $1\,500 early bird + GST/ 1st person from one business or $1\,500 + GST or $1\,250 early bird + GST / 2+ people from the same business. Early bird applies if registered and paid 4 weeks prior to course start date (9 May 2024). Cost includes comprehensive set of Workshop Notes\, Workbook\, decision support spreadsheet tools and all catering. \n  \nTo register: Book online at http://www.bushagri.com.au/businessedge \n  \nWho to contact for more information: Contact deliverer Simone Parker on M: 0408 818 043 or admin@bushagri.com.au \nFor more information\, read the EVENT FLYER
URL:https://futurebeef.com.au/event/business-edge-cunnamulla-2/
LOCATION:Cunnamulla\, Cunnamulla\, Qld\, 4490\, Australia
CATEGORIES:Past event
END:VEVENT
BEGIN:VEVENT
DTSTART;TZID=Australia/Brisbane:20240607T080000
DTEND;TZID=Australia/Brisbane:20240607T170000
DTSTAMP:20260424T033337
CREATED:20240520T230905Z
LAST-MODIFIED:20240812T053533Z
UID:59151-1717747200-1717779600@futurebeef.com.au
SUMMARY:Farmer First Aid Training - Muttaburra
DESCRIPTION:GroWQ is thrilled to present subsidised Farmer First aid training across Western Queensland.\nImpulse training will be running an 8hr practical\, hands-on training specifically designed for primary producers.\nGrab your Neighbours and support each other and learn life savings skills together. \nPlease note numbers are capped so don’t be slow in booking!\nBYO Meals & Chair for the day.\nOnce you register\, Vicki will be in contact prior to the training outlining the course and you will receive a link to register for a USI. This must be done.\nPlease note each attendee needs their own email address.\n**WHEN REGISTERING\, ENTER SEPARATE EMAIL ADDRESSES FOR EACH ATTENDEE** \nTo book https://www.trybooking.com/CRLAP
URL:https://futurebeef.com.au/event/farmer-first-aid-training-muttaburra/
LOCATION:Crossmoor\, 3500 Crossmoor Road\, Longreach\, 4730
CATEGORIES:Past event
END:VEVENT
END:VCALENDAR