BEGIN:VCALENDAR
VERSION:2.0
PRODID:-//FutureBeef - ECPv6.5.1.5//NONSGML v1.0//EN
CALSCALE:GREGORIAN
METHOD:PUBLISH
X-WR-CALNAME:FutureBeef
X-ORIGINAL-URL:https://futurebeef.com.au
X-WR-CALDESC:Events for FutureBeef
REFRESH-INTERVAL;VALUE=DURATION:PT1H
X-Robots-Tag:noindex
X-PUBLISHED-TTL:PT1H
BEGIN:VTIMEZONE
TZID:Australia/Brisbane
BEGIN:STANDARD
TZOFFSETFROM:+1000
TZOFFSETTO:+1000
TZNAME:AEST
DTSTART:20240101T000000
END:STANDARD
END:VTIMEZONE
BEGIN:VEVENT
DTSTART;TZID=Australia/Brisbane:20240619T090000
DTEND;TZID=Australia/Brisbane:20240619T140000
DTSTAMP:20260424T141356
CREATED:20240604T003003Z
LAST-MODIFIED:20240812T053255Z
UID:59254-1718787600-1718805600@futurebeef.com.au
SUMMARY:Resilience in agriculture workshop for primary producers
DESCRIPTION:Primary producers in Goondiwindi are invited to a free ‘Resilience in agriculture’ workshop with the Queensland Farmers’ Federation. \nWorkshop topics include: \n\nPractical soil assessment\nFarm business planning\nFlood management planning\nQRIDA funding availability\nCotton Australia update\nLiDAR mapping advantages for soil and water management\nRural Aid resources and mental health services\nQ&A with various industry members and representatives.\n\nRegistrations close Friday 14 June. \nFor more information and to register CLICK HERE.
URL:https://futurebeef.com.au/event/resilience-in-agriculture-workshop-goondiwindi/
LOCATION:Goondiwindi Waggamba Community Cultural Centre\, Corner Russell and Short Streets\, Goondiwindi\, Qld\, 4390\, Australia
CATEGORIES:Past event
END:VEVENT
END:VCALENDAR