BEGIN:VCALENDAR
VERSION:2.0
PRODID:-//FutureBeef - ECPv6.5.1.5//NONSGML v1.0//EN
CALSCALE:GREGORIAN
METHOD:PUBLISH
X-ORIGINAL-URL:https://futurebeef.com.au
X-WR-CALDESC:Events for FutureBeef
REFRESH-INTERVAL;VALUE=DURATION:PT1H
X-Robots-Tag:noindex
X-PUBLISHED-TTL:PT1H
BEGIN:VTIMEZONE
TZID:Australia/Sydney
BEGIN:STANDARD
TZOFFSETFROM:+1100
TZOFFSETTO:+1000
TZNAME:AEST
DTSTART:20240406T160000
END:STANDARD
BEGIN:DAYLIGHT
TZOFFSETFROM:+1000
TZOFFSETTO:+1100
TZNAME:AEDT
DTSTART:20241005T160000
END:DAYLIGHT
END:VTIMEZONE
BEGIN:VEVENT
DTSTART;TZID=Australia/Sydney:20240625T110000
DTEND;TZID=Australia/Sydney:20240625T120000
DTSTAMP:20260424T164915
CREATED:20240529T215047Z
LAST-MODIFIED:20240812T053216Z
UID:59215-1719313200-1719316800@futurebeef.com.au
SUMMARY:Argus Global Beef Market Outlook Webinar
DESCRIPTION:Analysis and pricing insights for the global beef market\, with a focus on Australia\nThe frozen boxed beef market is one of the most liquid Australian beef export markets\, with major importers in Japan\, South Korea\, China and the US. \nTransparency is increasingly important in the Australian beef and cattle markets. The boom-bust cycle is amplified by extreme weather\, complex international trade flows and inflation pushing up input prices. \nGovernments are focused on competition and transparency\, and financial institutions are looking to better manage risk for loan provision and trade finance. \nJoin us for this exclusive presentation where our expert Jo Clarke will address: \n\n\n\n\n\nAustralia well positioned to capitalize on the cattle herd rebuild in the US\nSlaughter capacity and processor dynamics\nChanging market landscape for Australian beef exporters\nThe use of Argus price benchmarks for frozen meat\n\n\n\n\n\nDon’t forget to register! \n \n 
URL:https://futurebeef.com.au/event/argus-global-beef-market-outlook-webinar/
LOCATION:Online\, Australia
CATEGORIES:Past event
END:VEVENT
END:VCALENDAR