BEGIN:VCALENDAR
VERSION:2.0
PRODID:-//FutureBeef - ECPv6.5.1.5//NONSGML v1.0//EN
CALSCALE:GREGORIAN
METHOD:PUBLISH
X-WR-CALNAME:FutureBeef
X-ORIGINAL-URL:https://futurebeef.com.au
X-WR-CALDESC:Events for FutureBeef
REFRESH-INTERVAL;VALUE=DURATION:PT1H
X-Robots-Tag:noindex
X-PUBLISHED-TTL:PT1H
BEGIN:VTIMEZONE
TZID:Australia/Brisbane
BEGIN:STANDARD
TZOFFSETFROM:+1000
TZOFFSETTO:+1000
TZNAME:AEST
DTSTART:20240101T000000
END:STANDARD
END:VTIMEZONE
BEGIN:VEVENT
DTSTART;TZID=Australia/Brisbane:20240812T080000
DTEND;TZID=Australia/Brisbane:20240814T170000
DTSTAMP:20260424T215807
CREATED:20240531T003240Z
LAST-MODIFIED:20241118T002205Z
UID:59237-1723449600-1723654800@futurebeef.com.au
SUMMARY:Breeding EDGE - Longreach
DESCRIPTION:Longreach Breeding EDGE is a three-day workshop designed to help in improving and refining you beef breeder herd management plans.   \nLocation: Longreach\, QLD \nWhen: 12-14 August 2024\, 8am-5pm all days \nCost: \n\n$1\,950 + GST / 1st person from one business.\n$1\,650 + GST / 2nd and 3rd person from same business (primary producers only).\nCorporate rate + GST/ 5 or more participants from the one business.\n\nEarly bird discount for producers until the 30th June. Early bird discount doesn’t apply to the RFCS subsidised positions. \nCost includes workshop notes\, workbook\, electronic files\, other materials and catering. \n\n\nPresenters: \nDésirée Jackson – Désirée Jackson Livestock Management \nTim Emery – Department of Agriculture and Fisheries \nTopics covered include: \n\ncurrent herd performance – what measures matter most\nreproduction and reproduction loss\nmanaging the breeders and herd management plans\nbull fertility and management\ngenetic improvement of your herd (including breeding objectives)\nidentifying “not so obvious” bull faults that impact reproduction\nreproductive diseases and diseases impacting reproduction\nbreeder herd management plans\ngenetic principles and selection tools\nselection and selection criteria for traits important to you\nbreeds and breeding systems.\n\nMore information can be found here in the EVENT FLYER. \n\nTo register\, contact:   \nDésirée Jackson by phone 0409 062 692 or email desireejackson@djlm.com.au.
URL:https://futurebeef.com.au/event/breeding-edge-longreach/
LOCATION:Qld
CATEGORIES:Past event
ORGANIZER;CN="D%C3%A9sir%C3%A9e Jackson":MAILTO:desireejackson@djlm.com.au
END:VEVENT
BEGIN:VEVENT
DTSTART;VALUE=DATE:20240814
DTEND;VALUE=DATE:20240821
DTSTAMP:20260424T215807
CREATED:20240130T233549Z
LAST-MODIFIED:20241118T002241Z
UID:57715-1723593600-1724198399@futurebeef.com.au
SUMMARY:GrazingforProfit - Roma
DESCRIPTION:GrazingforProfit® is Australia’s longest-running business program for the grazing industry. With over 8\,000 graduates\, it is also the most attended farm management program conducted in rural Australia. \nA 360-Degree Approach: \nGrazingforProfit® takes a comprehensive view\, encompassing all factors influencing your enterprise’s success. From climate variability to market fluctuations\, we equip you to make informed decisions that embrace the entirety of your business environment. \nThree reasons you should register today! \n\nCan’t say enough good things about RCS. Knowledge of presenters was fantastic. Course I believe every grazier should do. Follow up and information attendees can access is great! Walt\nA grazing or Farming for Profit course has the highest return on any education $ you will ever spend. RCS provides across the board education tools and backup that\, without doubt helps agricultural businesses to become more profitable\, sustainable and better prepared to bounce back after droughts\, downturns and floods. Brian\nBest well-rounded course. Honestly the best well-rounded course I have ever taken. I loved how immersive it was to make us really zone in on our businesses. It made me look at our numbers with different eyes and consider all aspects of our grazing business\, not just tax and cashflow. It gave me more tools and understanding than I ever thought was possible. This gives us confidence with our decision making and future. Janeta\n\n\nCost\n\nEarly Bird: $5\,000 (available until 14 June 2024)\n\n\nStandard: $5\,500 \n\nDon’t forget to register to secure your spot today!
URL:https://futurebeef.com.au/event/grazingforprofit-roma/
LOCATION:Roma Explorers Inn\, 44778 Warrego Highway\, Roma\, Qld\, 4455\, Australia
CATEGORIES:Past event
ORGANIZER;CN="RCS - Resource Consulting Services":MAILTO:info@rcsaustralia.com.au
END:VEVENT
BEGIN:VEVENT
DTSTART;TZID=Australia/Brisbane:20240814T080000
DTEND;TZID=Australia/Brisbane:20240814T170000
DTSTAMP:20260424T215807
CREATED:20240813T231348Z
LAST-MODIFIED:20241118T002338Z
UID:60344-1723622400-1723654800@futurebeef.com.au
SUMMARY:KLR Marketing School- Cloncurry
DESCRIPTION:KLR Marketing school is coming to Cloncurry- Knowledge to profit in any livestock market. \nDiscover: \n\nWhat determines which animals are overpriced or underpriced\, how to act on this knowledge\nWhat really drives markets\, the key to breeding profitably and that profit can be made in a falling market.\n\nBe Able To: \n\nCalculate whether animals are overpriced or underpriced\nBalance your Grass\, Money and Livestock\nProtect your equity\nDetermine the true value of your grass\nCalculate your Cost of Carry and its crucial effect on your marketing decision\n\nWHERE: Cloncurry \nWHEN: 14th – 16th October 2024 \nYour Investment for the 2 ½ Days: First Person: $1980 inc GST\, 2nd Person: $1485 inc GST\, Repeat: $825 (inc GST) per person \nKLR believe that this information can benefit couples so much more when both partners attend\, therefore offer a special price for a 2nd or 3rd person from the same family business. \nLunches\, Morning and Afternoon Tea are provided and are included in the above price. \nREGISTER online ASAP HERE \nVisit KLR MARKETING for more information or contact Kaye Barr: 0408 918 040\, bookings@klrmarketing.com.au
URL:https://futurebeef.com.au/event/klr-marketing-school-cloncurry/
LOCATION:Cloncurry\, Cloncurry\, Queensland\, 4824\, Australia
CATEGORIES:Past event
END:VEVENT
END:VCALENDAR