BEGIN:VCALENDAR
VERSION:2.0
PRODID:-//FutureBeef - ECPv6.5.1.5//NONSGML v1.0//EN
CALSCALE:GREGORIAN
METHOD:PUBLISH
X-WR-CALNAME:FutureBeef
X-ORIGINAL-URL:https://futurebeef.com.au
X-WR-CALDESC:Events for FutureBeef
REFRESH-INTERVAL;VALUE=DURATION:PT1H
X-Robots-Tag:noindex
X-PUBLISHED-TTL:PT1H
BEGIN:VTIMEZONE
TZID:Australia/Brisbane
BEGIN:STANDARD
TZOFFSETFROM:+1000
TZOFFSETTO:+1000
TZNAME:AEST
DTSTART:20240101T000000
END:STANDARD
END:VTIMEZONE
BEGIN:VEVENT
DTSTART;VALUE=DATE:20240825
DTEND;VALUE=DATE:20240830
DTSTAMP:20260424T220446
CREATED:20231220T003431Z
LAST-MODIFIED:20241118T002317Z
UID:57491-1724544000-1724975999@futurebeef.com.au
SUMMARY:23rd Australasian Weeds Conference
DESCRIPTION:Welcome\nInvasive Species Queensland (formerly the Weed Society of Queensland) is excited to collaborate with the Council of Australasian Weed Societies (CAWS) in hosting the 23rd Australasian Weeds Conference (AWC). Join us from August 25 to 29\, 2024 at the Brisbane Convention and Exhibition Centre for this significant national event. \nWeeds continue to impact biodiversity\, agriculture\, and public spaces\, posing challenges to productivity and land use. The 23rd AWC provides a platform to unite\, share ideas\, and explore effective weed management strategies.  We extend a warm invitation to all involved in weed research\, policy and extension to join us and contribute to this vital discussion. \nAbout Invasive Species Queensland\nThe members of Invasive Species Queensland (ISQ) share a common interest in weeds and pest animals and their management. Previously called the Weed Society of Queensland (WSQ)\, the Society was formed in 1975 with the aim of advancing the understanding and practice of weed management. In recent years the society expanded its scope to include pest animals and the WSQ was renamed Invasive Species Queensland in 2022.  ISQ is one of the seven member societies of the Council of Australasian Weed Science Societies (CAWS) and its members are from diverse backgrounds: practitioners to policy people; landholders to scientists. \n  \nFor more information on this event click here.
URL:https://futurebeef.com.au/event/23rd-australasian-weeds-conference/
LOCATION:Brisbane Convention and Exhibition Centre\, Brisbane
CATEGORIES:Past event
END:VEVENT
BEGIN:VEVENT
DTSTART;TZID=Australia/Brisbane:20240827T083000
DTEND;TZID=Australia/Brisbane:20240827T143000
DTSTAMP:20260424T220446
CREATED:20240808T233603Z
LAST-MODIFIED:20241118T002347Z
UID:60226-1724747400-1724769000@futurebeef.com.au
SUMMARY:Livestock carbon footprint workshop- Bedourie
DESCRIPTION:Join Integrity Ag and Hewitt Foods for an interactive workshop to better understand the carbon footprint of livestock production. \nThe Workshop will cover: \n\nCarbon foot-printing from a Hewitt supply chain perspective\nReviewing emissions reduction risks and opportunities for producers\nUnderstanding carbon storage and elements of natural capital\n\nWHERE- Bedourie \nWHEN- Tuesday August 27\, 8:30- 2:30pm \nBOOK your spot now by emailing: adminlivestock@hewittfoods.com \nOther workshop dates can be found in this FLYER \nVenue details will be shared once attendance is confirmed
URL:https://futurebeef.com.au/event/livestock-carbon-footprint-workshop-bedourie/
LOCATION:Bedourie\, Bedourie\, QLD\, 4829\, Australia
CATEGORIES:Past event
ORGANIZER;CN="Hewitt Foods":MAILTO:adminlivestock@hewittfoods.com
END:VEVENT
END:VCALENDAR