BEGIN:VCALENDAR
VERSION:2.0
PRODID:-//FutureBeef - ECPv6.5.1.5//NONSGML v1.0//EN
CALSCALE:GREGORIAN
METHOD:PUBLISH
X-WR-CALNAME:FutureBeef
X-ORIGINAL-URL:https://futurebeef.com.au
X-WR-CALDESC:Events for FutureBeef
REFRESH-INTERVAL;VALUE=DURATION:PT1H
X-Robots-Tag:noindex
X-PUBLISHED-TTL:PT1H
BEGIN:VTIMEZONE
TZID:Australia/Brisbane
BEGIN:STANDARD
TZOFFSETFROM:+1000
TZOFFSETTO:+1000
TZNAME:AEST
DTSTART:20240101T000000
END:STANDARD
END:VTIMEZONE
BEGIN:VEVENT
DTSTART;TZID=Australia/Brisbane:20240902T080000
DTEND;TZID=Australia/Brisbane:20240904T170000
DTSTAMP:20260424T231447
CREATED:20240625T034355Z
LAST-MODIFIED:20241118T002408Z
UID:59687-1725264000-1725469200@futurebeef.com.au
SUMMARY:Breeding EDGE- Charters Towers
DESCRIPTION:Join Tim Emery\, Roxanne Morgan (DAF)\, Dr Geoff Fordyce (QAFFI) and Felicity Hamlyn- Hill (Beef Enterprise Advisory Services) for a three day Breeding EDGE workshop. \nWHERE: Charters Towers \nWHEN: 2-4 September (8am- 5pm all days) \nCOST: $1\,950 + GST / 1st person from one business; $1\,650 + GST / 2nd and 3rd person from same business (producers only). \n(Includes comprehensive set of Workshop Notes\, Workbook\, electronic files\, other materials and catering.) \nREGISTER BY CONTACTING: Felicity Hamlyn-Hill (BEAS)\, M:  0428 113 732 or E: felicityhamlyn-hill@bigpond.com. \nAttending this workshop will help you to:\n• Measure reproductive performance more accurately\n•Improve bull selection\, retention\, management and performance\n•Develop\, or refine\, a practical and achievable management plan for the breeding herd that will lead to higher productivity\n•Develop breeding objectives to take your herd in a more profitable direction \nFOR MORE INFORMATION VIEW THE EVENT FLYER HERE
URL:https://futurebeef.com.au/event/breeding-edge-charters-towers/
LOCATION:Charters Towers\, Charters Towers\, Australia
CATEGORIES:Past event
ORGANIZER;CN="Felicity Hamlyn-Hill":MAILTO:felicityhamlyn-hill@bigpond.com
END:VEVENT
BEGIN:VEVENT
DTSTART;TZID=Australia/Brisbane:20240903T083000
DTEND;TZID=Australia/Brisbane:20240903T143000
DTSTAMP:20260424T231447
CREATED:20240808T233832Z
LAST-MODIFIED:20241118T002419Z
UID:60230-1725352200-1725373800@futurebeef.com.au
SUMMARY:Livestock carbon footprint workshop- Augathella
DESCRIPTION:Join Integrity Ag and Hewitt Foods for an interactive workshop to better understand the carbon footprint of livestock production. \nThe Workshop will cover: \n\nCarbon foot-printing from a Hewitt supply chain perspective\nReviewing emissions reduction risks and opportunities for producers\nUnderstanding carbon storage and elements of natural capital\n\nWHERE- Augathella \nWHEN- Tuesday September 3\, 8:30- 2:30pm \nBOOK your spot now by emailing: adminlivestock@hewittfoods.com \nOther workshop dates can be found in this FLYER \nVenue details will be shared once attendance is confirmed
URL:https://futurebeef.com.au/event/livestock-carbon-footprint-workshop-augathella/
LOCATION:Augathella\, Mitchell\, Queensland\, 4465\, Australia
CATEGORIES:Past event
ORGANIZER;CN="Hewitt Foods":MAILTO:adminlivestock@hewittfoods.com
END:VEVENT
BEGIN:VEVENT
DTSTART;TZID=Australia/Brisbane:20240903T093000
DTEND;TZID=Australia/Brisbane:20240903T133000
DTSTAMP:20260424T231447
CREATED:20240813T035944Z
LAST-MODIFIED:20241118T002424Z
UID:60325-1725355800-1725370200@futurebeef.com.au
SUMMARY:QLD beef industry market & technology roadshow- Richmond
DESCRIPTION:Learn more about the current state of the Australian and global beef market\, global & local price drivers as well as predictions for the near and longer term\nprice forecasts for our Beef industry. \nKEYNOTE SPEAKER: Simon Quilty- Global AgriTrends \nWHERE: Mud Hut Hotel\, Richmond \nWHEN: Tuesday 3rd September\, 9:30am- 1:30pm \nThe day will also feature speakers from: \nGALLAGHER ANIMAL MANAGEMENT \nBARENBRUG PASTURE SEED \nBLACK BOX CO.- Livestock analysis and insight software \n  \nREGISTER HERE or call Barenbrug Customer Service on 1800 007 333 (weekdays) \nCOST: $20 donation to charity on the day- Lunch provided \nFor more details\, see the EVENT FLYER
URL:https://futurebeef.com.au/event/qld-beef-industry-market-technology-roadshow-richmond/
LOCATION:Mud Hut Hotel\, 72 Goldring Street\, Richmond\, QLD\, 4822\, Australia
CATEGORIES:Past event
END:VEVENT
END:VCALENDAR