BEGIN:VCALENDAR
VERSION:2.0
PRODID:-//FutureBeef - ECPv6.5.1.5//NONSGML v1.0//EN
CALSCALE:GREGORIAN
METHOD:PUBLISH
X-ORIGINAL-URL:https://futurebeef.com.au
X-WR-CALDESC:Events for FutureBeef
REFRESH-INTERVAL;VALUE=DURATION:PT1H
X-Robots-Tag:noindex
X-PUBLISHED-TTL:PT1H
BEGIN:VTIMEZONE
TZID:Australia/Brisbane
BEGIN:STANDARD
TZOFFSETFROM:+1000
TZOFFSETTO:+1000
TZNAME:AEST
DTSTART:20240101T000000
END:STANDARD
END:VTIMEZONE
BEGIN:VEVENT
DTSTART;TZID=Australia/Brisbane:20240905T093000
DTEND;TZID=Australia/Brisbane:20240905T133000
DTSTAMP:20260424T231622
CREATED:20240813T040400Z
LAST-MODIFIED:20241118T002447Z
UID:60337-1725528600-1725543000@futurebeef.com.au
SUMMARY:QLD beef industry market & technology roadshow- Clermont
DESCRIPTION:Learn more about the current state of the Australian and global beef market\, global & local price drivers as well as predictions for the near and longer term\nprice forecasts for our Beef industry. \nKEYNOTE SPEAKER: Simon Quilty- Global AgriTrends \nWHERE: Commercial Hotel Clermont \nWHEN: Thursday 5th September\, 9:30am- 1:30pm \nThe day will also feature speakers from: \nGALLAGHER ANIMAL MANAGEMENT \nBARENBRUG PASTURE SEED \nBLACK BOX CO.- Livestock analysis and insight software \n  \nREGISTER HERE or call Barenbrug Customer Service on 1800 007 333 (weekdays) \nCOST: $20 donation to charity on the day- Lunch provided \nFor more details\, see the EVENT FLYER
URL:https://futurebeef.com.au/event/qld-beef-industry-market-technology-roadshow-clermont/
LOCATION:Clermont Commercial Hotel\, 80 Capella Street\, Clermont\, Qld\, 4721\, Australia
CATEGORIES:Past event
END:VEVENT
END:VCALENDAR