BEGIN:VCALENDAR
VERSION:2.0
PRODID:-//FutureBeef - ECPv6.5.1.5//NONSGML v1.0//EN
CALSCALE:GREGORIAN
METHOD:PUBLISH
X-WR-CALNAME:FutureBeef
X-ORIGINAL-URL:https://futurebeef.com.au
X-WR-CALDESC:Events for FutureBeef
REFRESH-INTERVAL;VALUE=DURATION:PT1H
X-Robots-Tag:noindex
X-PUBLISHED-TTL:PT1H
BEGIN:VTIMEZONE
TZID:Australia/Brisbane
BEGIN:STANDARD
TZOFFSETFROM:+1000
TZOFFSETTO:+1000
TZNAME:AEST
DTSTART:20240101T000000
END:STANDARD
END:VTIMEZONE
BEGIN:VEVENT
DTSTART;TZID=Australia/Brisbane:20240911T080000
DTEND;TZID=Australia/Brisbane:20240915T170000
DTSTAMP:20260424T231448
CREATED:20240903T004916Z
LAST-MODIFIED:20241118T002522Z
UID:60556-1726041600-1726419600@futurebeef.com.au
SUMMARY:Mental Health First Aid Training (RFDS)
DESCRIPTION:Mental Health First Aid Training.\nDelivered by RFDS Outback Menta Health. \n11th and 12th September (Wednesday & Thursday)\n-Standard MHFA (Full course is 2 days). \n13th September (Friday)\n-Refresher MHFA (4 hours)\n-Suitable for those who have completed standard MHFA within the past 2 years. \n14th and 15th September (Saturday & Sunday)\n-Standard MHFA (Full course is 2 days). \nCost: FREE  \nTo register\, please contact Mel Peirce.\nEmail: outback@rfdsqld.com.au\nPhone: 1300 010 174 \nRFDS Mental health first aid – Longreach
URL:https://futurebeef.com.au/event/mental-health-first-aid-training-rfds/
LOCATION:Longreach\, Longreach\, Queensland\, 4730\, Australia
CATEGORIES:Past event
END:VEVENT
BEGIN:VEVENT
DTSTART;TZID=Australia/Brisbane:20240913T080000
DTEND;TZID=Australia/Brisbane:20240913T170000
DTSTAMP:20260424T231448
CREATED:20240903T230134Z
LAST-MODIFIED:20241118T002532Z
UID:60565-1726214400-1726246800@futurebeef.com.au
SUMMARY:Rural First Aid Training - Winton
DESCRIPTION:GroWQ is thrilled to present subsidised Rural First Aid training across Western Queensland. \nImpulse training will be running practical\, hands-on training specifically designed for primary producers. \nGrab your neighbours and support each other & learn lifesaving skills together. \n  \n8AM start to run for approx. 8 hours. \n$125 per person for first two attendees. \n$90 for additional participants from the same property\, property group or family (normally $302.50 per person). \nFFA – Multiple
URL:https://futurebeef.com.au/event/rural-first-aid-training-winton/
LOCATION:Winton\, Winton\, Qld\, 4735\, Australia
CATEGORIES:Past event
END:VEVENT
END:VCALENDAR