BEGIN:VCALENDAR
VERSION:2.0
PRODID:-//FutureBeef - ECPv6.5.1.5//NONSGML v1.0//EN
CALSCALE:GREGORIAN
METHOD:PUBLISH
X-WR-CALNAME:FutureBeef
X-ORIGINAL-URL:https://futurebeef.com.au
X-WR-CALDESC:Events for FutureBeef
REFRESH-INTERVAL;VALUE=DURATION:PT1H
X-Robots-Tag:noindex
X-PUBLISHED-TTL:PT1H
BEGIN:VTIMEZONE
TZID:Australia/Brisbane
BEGIN:STANDARD
TZOFFSETFROM:+1000
TZOFFSETTO:+1000
TZNAME:AEST
DTSTART:20240101T000000
END:STANDARD
END:VTIMEZONE
BEGIN:VEVENT
DTSTART;VALUE=DATE:20241008
DTEND;VALUE=DATE:20241009
DTSTAMP:20260425T001456
CREATED:20240614T005242Z
LAST-MODIFIED:20241118T002820Z
UID:59480-1728345600-1728431999@futurebeef.com.au
SUMMARY:Emerald - The Regional Queensland Brain Reset Tour
DESCRIPTION:Allan Parker OAM is a micro behavioural neuroscientist\, whose first book\, Switch on your Brain has been a best seller since its publication in 1986. \nAllan is embarking on an extraordinary journey through the heart of regional Australia\, bringing insights\, skills\, and compassionate guidance to communities and individuals. \nAllan’s workshops delve into the neural pathways that govern our thoughts and behaviours\, offering tools for a Calming Brain Reset (CBR). \nYour brain is your most powerful asset\n\nBeing mentally fitter\, sharper\, and calmer.\nLearn how to listen to the brain and body you live in.\nLearn what you can do now\, to live longer with an intact and healthy brain.\nMaintain composure when there are bumps and holes in the road of life.\n\nWhat you will learn\nFive steps to a brain reset.\nReset your brain to have clearer thoughts\, less stress. \nManaging pressure and tension. \nHow to talk about pressure and lower it with five techniques for handling tension and emerging calmer on the other side. \nUnderstanding the brain.\nA deep dive into how our brain works and how to have a healthier one throughout your life. \nCalming conversations. \nHow to have calming conversations rather than reactive debates to produce a healthier brain and better understanding of others. \nThe facts and myths of brain food and exercise. \nExplore the impact of food and physical activities on brain health and memory. \nThe need for a brain reset\n\nKnowing how to improve our brain is crucial. It’s time to go beyond temporary fixes and initiate a lasting change.\nBy resetting your brain\, you’re not just improving your mental wellbeing; you’re enhancing your emotional and physical health too.\nImagine a life free from overwhelm\, stress\, anxiety and depression and increase peaceful sleep.\n\nThe Regional Queensland Brain Reset Tour information flyer (PDF\, 5MB) \nCost\n7-9AM Morning session: $71.50\n10AM-4PM Day session: $209.00\n5-7PM Twilight session: $71.50 \nRegister for this event here.
URL:https://futurebeef.com.au/event/emerald-the-regional-queensland-brain-reset-tour/
LOCATION:Qld
CATEGORIES:Past event
ORGANIZER;CN="Peak Performance":MAILTO:frontdesk@peakpd.com
END:VEVENT
BEGIN:VEVENT
DTSTART;TZID=Australia/Brisbane:20241008T083000
DTEND;TZID=Australia/Brisbane:20241008T163000
DTSTAMP:20260425T001456
CREATED:20240924T235853Z
LAST-MODIFIED:20241118T002838Z
UID:61045-1728376200-1728405000@futurebeef.com.au
SUMMARY:BredWell FedWell — Clifton
DESCRIPTION:Breeding and feeding to maximise profit\n\nBredWell FedWell (BWFW) is a practical\, one-day introductory workshop on how productivity and profitability can be improved through good breeding and feeding over the livestock production cycle\, with a specific focus on profit drivers. On the back of a decade of success\, the BWFW workshops have been redeveloped to reflect evolving best practice genetics and nutrition management. \nWorkshops are hosted on-farm and aimed to improve the knowledge and skills of producers so they can: \n\nDevelop a customised breeding plan for your enterprise aligned to your profit drivers.\nIdentify sires and select animals that help you meet your objectives.\nLearn about feeding animals well to achieve your objective and maximise your genetic investment.\n\n\n\nRegistration details\n\n \nFor more information\, download the event flyer: BredWell FedWell Clifton (PDF) \nCost: $350 per person
URL:https://futurebeef.com.au/event/bredwell-fedwell-clifton/
LOCATION:Clifton Saleyards\, Clifton Show Ground Facility\, Clifton\, Queensland\, 4361\, Australia
CATEGORIES:Past event
ORGANIZER;CN="Tim Emery":MAILTO:timemery85@hotmail.com
END:VEVENT
END:VCALENDAR