BEGIN:VCALENDAR
VERSION:2.0
PRODID:-//FutureBeef - ECPv6.5.1.5//NONSGML v1.0//EN
CALSCALE:GREGORIAN
METHOD:PUBLISH
X-WR-CALNAME:FutureBeef
X-ORIGINAL-URL:https://futurebeef.com.au
X-WR-CALDESC:Events for FutureBeef
REFRESH-INTERVAL;VALUE=DURATION:PT1H
X-Robots-Tag:noindex
X-PUBLISHED-TTL:PT1H
BEGIN:VTIMEZONE
TZID:Australia/Brisbane
BEGIN:STANDARD
TZOFFSETFROM:+1000
TZOFFSETTO:+1000
TZNAME:AEST
DTSTART:20240101T000000
END:STANDARD
END:VTIMEZONE
BEGIN:VEVENT
DTSTART;TZID=Australia/Brisbane:20241029T100000
DTEND;TZID=Australia/Brisbane:20241030T153000
DTSTAMP:20260425T001456
CREATED:20240924T040551Z
LAST-MODIFIED:20241118T003552Z
UID:61009-1730196000-1730302200@futurebeef.com.au
SUMMARY:Embracing agriculture digital innovation workshop: Longreach
DESCRIPTION:Enhance your knowledge and skills and increase your understanding of the benefits of agriculture digital technologies. \nThe two-day workshop will cover: \n\nCurrent digital opportunities and farm management technology\nCyber-security and how to identify common cyber-threats using interactive videos and case studies\nDifferent types of connectivity\, including their advantages and disadvantages\nInternet of Things (IoT) systems and devices\, including sensors and their functions\nThe use of drones\, their capabilities\, benefits and limitations on farms\, plus relevant legislative requirements\nGlobal positioning technology including GNSS\, GPS\, and GIS\nMethods of precision farming and control using satellite navigation and other technologies\nHow to manage data effectively and securely\nAutomation and technologies used to improve supply chain processes\nTechnologies and innovations that are transforming the agricultural industry.\n\nFor more information and to register visit TAFE Queensland’s Embracing agriculture digital innovation workshops website.
URL:https://futurebeef.com.au/event/embracing-agriculture-digital-innovation-workshop-longreach/
LOCATION:Longreach Station\, 10311 Landsborough Highway\, Longreach\, Qld\, 4730\, Australia
CATEGORIES:Past event
END:VEVENT
BEGIN:VEVENT
DTSTART;VALUE=DATE:20241030
DTEND;VALUE=DATE:20241101
DTSTAMP:20260425T001456
CREATED:20241014T005157Z
LAST-MODIFIED:20241118T003601Z
UID:61355-1730246400-1730419199@futurebeef.com.au
SUMMARY:Carbon EDGE — Toowoomba
DESCRIPTION:ConnectAg\, and Meat & Livestock Australia are excited to be bringing Carbon EDGE to Toowoomba\, 30-31 October 2024.\nThe Carbon EDGE workshop is helping provide red meat producers with an independent perspective for their own operations on carbon accounting\, their emissions intensity as well as emissions reduction technologies\, insetting\, offsetting and more. \nConnectAg will support you over the course to make sense of this dynamic topic and get clarity on realistic options for your operation. The workshop will also help put into focus considerations for sustainability reporting for industry and practical steps to determine how to navigate emerging risks and opportunities. \nAttending this workshop will help you learn:\n\nkey terminology and concepts relating to greenhouse gases (GHG) within the red meat industry\nin-depth information on the practices to reduce and sequester GHG within a livestock grazing business\nweighing up opportunities and risks associated with generating carbon credits and how they can be used to benefit livestock businesses\nunderstanding carbon neutrality and how it aligns to your business goals\ndeveloping a carbon action plan that incorporates practical\, achievable strategies to meet your objectives.\n\nWho should attend Carbon EDGE?\nThe program is for red meat producers who are looking to build on their understanding of carbon. The program aims to take participants from understanding to action planning. It is also suitable for advisors and other service providers. \nPre-workshop preparation\nThe design of the Carbon EDGE workshops recognises that everyone will be at a different starting point when it comes to carbon. However\, it is highly recommended that participants complete pre-work before attending to get the most out of the program. This includes the eLearning modules available on MLA’s Toolbox and a carbon account. Your workshop deliverers will be in touch to guide you through this process. \nCost\n$1000 + GST (discounted rom $1750 + GST) \nYour presenters\nRhonda Toms Morgan & John McLaughlin\, ConnectAg. \nClick here to register for Carbon EDGE\n 
URL:https://futurebeef.com.au/event/carbon-edge-toowoomba/
LOCATION:Toowoomba Showground\, Glenvale Road\, Toowoomba\, Qld\, 4350\, Australia
CATEGORIES:Past event
ORGANIZER;CN="Rhonda Toms-Morgan":MAILTO:rhondatoms@bigpond.com
END:VEVENT
END:VCALENDAR