BEGIN:VCALENDAR
VERSION:2.0
PRODID:-//FutureBeef - ECPv6.5.1.5//NONSGML v1.0//EN
CALSCALE:GREGORIAN
METHOD:PUBLISH
X-ORIGINAL-URL:https://futurebeef.com.au
X-WR-CALDESC:Events for FutureBeef
REFRESH-INTERVAL;VALUE=DURATION:PT1H
X-Robots-Tag:noindex
X-PUBLISHED-TTL:PT1H
BEGIN:VTIMEZONE
TZID:Australia/Brisbane
BEGIN:STANDARD
TZOFFSETFROM:+1000
TZOFFSETTO:+1000
TZNAME:AEST
DTSTART:20260101T000000
END:STANDARD
END:VTIMEZONE
BEGIN:VEVENT
DTSTART;TZID=Australia/Brisbane:20260420T083000
DTEND;TZID=Australia/Brisbane:20260420T123000
DTSTAMP:20260424T071613
CREATED:20260417T074609Z
LAST-MODIFIED:20260420T013005Z
UID:71169-1776673800-1776688200@futurebeef.com.au
SUMMARY:Community Impact Program Workshop - Roma
DESCRIPTION:Community organisations across South West Queensland are invited to attend local workshops to learn more about the resources available to support drought preparedness and a changing climate. \nThese sessions will explore: \n\nThe Community Impact Program\, delivered by the Foundation for Rural & Regional Renewal (FRRR)\nHow resources can support the continued development of local preparedness\nInsights into the Regional Drought Resilience Implementation Plan being developed by Regional Development Australia Darling Downs South West\n\nDetails\nTime: 8:30am – 12:30pm\nDates and locations: \n\nMonday 20th April\, Roma\nTuesday 21st April\, St George\nWednesday 22nd April\, Cunnamulla\nThursday 23rd April\, Charleville\nFriday 24th April\, Quilpie\n\nMore information \nContact FRRR on info@frrr.org.au or phone 03 5430 2399
URL:https://futurebeef.com.au/event/community-impact-program-workshop-roma/
LOCATION:Roma Explorers Inn\, 44778 Warrego Highway\, Roma\, Qld\, 4455\, Australia
CATEGORIES:Past event
ORGANIZER;CN="Foundation for Rural & Regional Renewal":MAILTO:info@frrr.org.au
END:VEVENT
BEGIN:VEVENT
DTSTART;TZID=Australia/Brisbane:20260420T083000
DTEND;TZID=Australia/Brisbane:20260420T140000
DTSTAMP:20260424T071613
CREATED:20260323T032156Z
LAST-MODIFIED:20260420T012953Z
UID:70678-1776673800-1776693600@futurebeef.com.au
SUMMARY:NQ Dry Tropics NRM Optiweigh Workshop - Mt Aberdeen Station
DESCRIPTION:Ever wondered how real-time in-paddock weighing could help your cattle businsess?\n\nCome along to the Optiweigh workshop and discover how Optiweigh can remotely and automatically weigh your cattle. Hear from experts about how the technology can support productive pastures and better grazing decision making.\n \nOn the day\, you’ll hear from: \n\nLocal producers sharing their experience\nCQU Researchers providing recent research\, data insights\, utilisation trends\nOptiweigh representatives providing technical information\, followed by a Q&A\n\n\n\nRegister your spot today!\n\nPlease RSVP to Justin Macor on 0408 318 053 or justin.macor@nqdrytropics.com.au\n\nMorning tea and lunch provided. Please advise any dietary requirements.\n\n  \nMore information\nOptiweigh Precision Livestock Management →\nOptiweigh case study: What the backgrounders do! →\n\n 
URL:https://futurebeef.com.au/event/nq-dry-tropics-nrm-optiweigh-workshop-mt-aberdeen-station/
LOCATION:Mt Aberdeen Station\, Bowen\, QLD\, 4805\, Australia
CATEGORIES:Past event
ORGANIZER;CN="NQ Dry Tropics":MAILTO:carleigh.drew@nqdrytropics.com.au
END:VEVENT
END:VCALENDAR