BEGIN:VCALENDAR
VERSION:2.0
PRODID:-//FutureBeef - ECPv6.5.1.5//NONSGML v1.0//EN
CALSCALE:GREGORIAN
METHOD:PUBLISH
X-WR-CALNAME:FutureBeef
X-ORIGINAL-URL:https://futurebeef.com.au
X-WR-CALDESC:Events for FutureBeef
REFRESH-INTERVAL;VALUE=DURATION:PT1H
X-Robots-Tag:noindex
X-PUBLISHED-TTL:PT1H
BEGIN:VTIMEZONE
TZID:Australia/Brisbane
BEGIN:STANDARD
TZOFFSETFROM:+1000
TZOFFSETTO:+1000
TZNAME:AEST
DTSTART:20240101T000000
END:STANDARD
END:VTIMEZONE
BEGIN:VEVENT
DTSTART;TZID=Australia/Brisbane:20240715T130000
DTEND;TZID=Australia/Brisbane:20240715T180000
DTSTAMP:20260423T042035
CREATED:20240628T045333Z
LAST-MODIFIED:20240812T052856Z
UID:59791-1721048400-1721066400@futurebeef.com.au
SUMMARY:Taroom - Forage management workshop
DESCRIPTION:This DAF grazing and grains workshop will help you maximise the productivity and profitability of forages.\n\nCovering everything you need to know on:\n\nAnnual forages\nLey pastures\nLong-term pastures\nSite & species selection\nFallow management\nGrazing management\nCattle productivity\nProfitability\n\n1PM start\, ending with a BBQ dinner. \nLocation\nLeichhardt Hotel – Yaldwyn & 23 Dawson Street. \nRegistrations\nTo register for this event contact: Shallan Herrig \nShallan.Herrig@daf.qld.gov.au\nM: 0436 811 486 \nForage Management Workshop Flyer
URL:https://futurebeef.com.au/event/taroom-forage-management-workshop/
LOCATION:Taroom\, Taroom\, Qld\, 4420\, Australia
CATEGORIES:Past event
ORGANIZER;CN="Shallan Herrig":MAILTO:Shallan.Herrig@daf.qld.gov.au
END:VEVENT
BEGIN:VEVENT
DTSTART;VALUE=DATE:20240716
DTEND;VALUE=DATE:20240719
DTSTAMP:20260423T042035
CREATED:20240130T232333Z
LAST-MODIFIED:20240812T052850Z
UID:57711-1721088000-1721347199@futurebeef.com.au
SUMMARY:RCS Grazing Clinic - Emerald
DESCRIPTION:Are you ready to transform your grazing management? The RCS Grazing Clinics are your ticket to mastering integral skills that will lead to increased productivity\, data-driven decision-making\, and future proofing of your business. \nOur Grazing Clinics unearth the complex world of ‘time-controlled’ grazing management. You’ll graduate from this course feeling motivated and confident in being able to: \n\nMaster the 6 grazing management principles\nMatch your stocking rate to carrying capacity\nCalculate and assess graze and rest periods\nUse grazing charts as powerful decision-making tools\nDesign your property layout\, fencing and water\nImprove soil health\, microbiology\, and biodiversity\nIncrease your ground cover and water retention\nExplore opportunities to grow soil carbon levels\nManage livestock for greatest production\nAdapt to seasonal and climate variability\n\nInvestment \nEarly Bird: $1\,350 per person (available until 16th June 2024) \nStandard: $1\,650 per person \nDon’t forget to register to secure your spot!
URL:https://futurebeef.com.au/event/rcs-grazing-clinic-emerald-2/
LOCATION:Western Gateway Motel\, 12 Theresa St\, Emerald\, QLD\, 4720\, Australia
CATEGORIES:Past event
ORGANIZER;CN="RCS - Resource Consulting Services":MAILTO:info@rcsaustralia.com.au
END:VEVENT
BEGIN:VEVENT
DTSTART;TZID=Australia/Brisbane:20240716T130000
DTEND;TZID=Australia/Brisbane:20240716T180000
DTSTAMP:20260423T042035
CREATED:20240628T045405Z
LAST-MODIFIED:20240812T052832Z
UID:59803-1721134800-1721152800@futurebeef.com.au
SUMMARY:Moura - Forage management workshop
DESCRIPTION:This DAF grazing and grains workshop will help you maximise the productivity and profitability of forages.\nCovering everything you need to know on:\n\nAnnual forages\nLey pastures\nLong-term pastures\nSite & species selection\nFallow management\nGrazing management\nCattle productivity\nProfitability\n\n1PM start\, ending with a BBQ dinner. \nLocation\nMoura Tavern – 8 Bell Street. \nRegistrations\nTo register for this event contact: Shallan Herrig \nShallan.Herrig@daf.qld.gov.au\nM: 0436 811 486 \nForage Management Workshop Flyer
URL:https://futurebeef.com.au/event/moura-forage-management-workshop/
LOCATION:Moura\, Moura\, Qld\, 4718\, Australia
CATEGORIES:Past event
ORGANIZER;CN="Shallan Herrig":MAILTO:Shallan.Herrig@daf.qld.gov.au
END:VEVENT
BEGIN:VEVENT
DTSTART;TZID=Australia/Brisbane:20240717T130000
DTEND;TZID=Australia/Brisbane:20240717T180000
DTSTAMP:20260423T042035
CREATED:20240628T045557Z
LAST-MODIFIED:20240812T052754Z
UID:59806-1721221200-1721239200@futurebeef.com.au
SUMMARY:Springsure - Forage management workshop
DESCRIPTION:This DAF grazing and grains workshop will help you maximise the productivity and profitability of forages.\n\nCovering everything you need to know on:\n\nAnnual forages\nLey pastures\nLong-term pastures\nSite & species selection\nFallow management\nGrazing management\nCattle productivity\nProfitability\n\n1PM start\, ending with a BBQ dinner. \nLocation\nBettafield – 716 Gem Road. \nRegistrations\nTo register for this event contact: Shallan Herrig \nShallan.Herrig@daf.qld.gov.au\nM: 0436 811 486 \nForage Management Workshop Flyer
URL:https://futurebeef.com.au/event/springsure-forage-management-workshop/
LOCATION:Bettafield\, 716 Gem Road\, Springsure\, QLD\, 4722\, Australia
CATEGORIES:Past event
ORGANIZER;CN="Shallan Herrig":MAILTO:Shallan.Herrig@daf.qld.gov.au
END:VEVENT
BEGIN:VEVENT
DTSTART;TZID=Australia/Brisbane:20240718T130000
DTEND;TZID=Australia/Brisbane:20240718T180000
DTSTAMP:20260423T042035
CREATED:20240628T050134Z
LAST-MODIFIED:20240812T052718Z
UID:59811-1721307600-1721325600@futurebeef.com.au
SUMMARY:Capella - Forage management workshop
DESCRIPTION:This DAF grazing and grains workshop will help you maximise the productivity and profitability of forages.\nCovering everything you need to know on:\n\nAnnual forages\nLey pastures\nLong-term pastures\nSite & species selection\nFallow management\nGrazing management\nCattle productivity\nProfitability\n\n1PM start\, ending with a BBQ dinner. \nLocation\nMt Roper View – 12km along Wyuna Road. \nRegistrations\nTo register for this event contact: Shallan Herrig \nShallan.Herrig@daf.qld.gov.au\nM: 0436 811 486 \nForage Management Workshop Flyer
URL:https://futurebeef.com.au/event/capella-forage-management-workshop/
LOCATION:Capella\, Capella\, Qld\, 4723\, Australia
CATEGORIES:Past event
ORGANIZER;CN="Shallan Herrig":MAILTO:Shallan.Herrig@daf.qld.gov.au
END:VEVENT
BEGIN:VEVENT
DTSTART;TZID=Australia/Brisbane:20240719T083000
DTEND;TZID=Australia/Brisbane:20240719T130000
DTSTAMP:20260423T042035
CREATED:20240628T050336Z
LAST-MODIFIED:20240812T052707Z
UID:59814-1721377800-1721394000@futurebeef.com.au
SUMMARY:Middlemount- Forage management workshop
DESCRIPTION:This DAF grazing and grains workshop will help you maximise the productivity and profitability of forages.\nCovering everything you need to know on:\n\nAnnual forages\nLey pastures\nLong-term pastures\nSite & species selection\nFallow management\nGrazing management\nCattle productivity\nProfitability\n\n8:30AM start\, ending with a BBQ lunch. \nLocation\nWindeyer – 1565 Rolfe Creed Road. \nRegistrations\nTo register for this event contact: Shallan Herrig \nShallan.Herrig@daf.qld.gov.au\nM: 0436 811 486 \nForage Management Workshop Flyer
URL:https://futurebeef.com.au/event/dysart-forage-management-workshop/
LOCATION:Dysart\, Dysart\, Qld\, 4745\, Australia
CATEGORIES:Past event
ORGANIZER;CN="Shallan Herrig":MAILTO:Shallan.Herrig@daf.qld.gov.au
END:VEVENT
BEGIN:VEVENT
DTSTART;TZID=Australia/Brisbane:20240723T090000
DTEND;TZID=Australia/Brisbane:20240723T120000
DTSTAMP:20260423T042035
CREATED:20240628T042337Z
LAST-MODIFIED:20240812T052652Z
UID:59765-1721725200-1721736000@futurebeef.com.au
SUMMARY:Jambin - Soil Pit Day
DESCRIPTION:The Farm Business Resilience Program and the Sustainable Grains team invites you for a morning in the paddock to discuss the importance of soil structure\, identify soil constraints\, and management options for growing productive and profitable crops. \nWhat to expect.\n\nSoil characteristics of the region\nSoil fertility and health under different management\nExplore soil constraints (sealing and running-off\, hard setting\, soil carbon status in continuous cropping/grazing country)\nExamine plant root growth\nHow to improve soil moisture retention and infiltration\nImpact of soil compaction\nSoil properties that drive soil release\n\nExpert Speaker from Department of Resources\nDr Mark Sugars\nPrinciple Land Resource Officer \nSue-Ellen Dear\nSenior Land Resource Officer \nRachela Mura\nNatural Resource Management Officer \nLunch will be provided. \nLocation\n4km south of Jambin along the Burnett Highway. \nRegistrations\nTo register for this event contact: Mohammad Ali \nMohammad.Ali@daf.qld.gov.au\nM: 0436 676 539 \nSoil Pit Day flyer
URL:https://futurebeef.com.au/event/importance-of-soils-jambin/
LOCATION:Jambin\, Jambin\, QLD\, 4702\, Australia
CATEGORIES:Past event
ORGANIZER;CN="Mohammad Ali":MAILTO:Mohammad.Ali@daf.qld.gov.au
END:VEVENT
BEGIN:VEVENT
DTSTART;TZID=Australia/Brisbane:20240724T090000
DTEND;TZID=Australia/Brisbane:20240724T120000
DTSTAMP:20260423T042035
CREATED:20240628T042431Z
LAST-MODIFIED:20240812T052625Z
UID:59783-1721811600-1721822400@futurebeef.com.au
SUMMARY:Rolleston - Soil Pit Day
DESCRIPTION:The Farm Business Resilience Program and the Sustainable Grains team invites you for a morning in the paddock to discuss the importance of soil structure\, identify soil constraints\, and management options for growing productive and profitable crops. \nWhat to expect.\n\nSoil characteristics of the region\nSoil fertility and health under different management\nExplore soil constraints (sealing and running-off\, hard setting\, soil carbon status in continuous cropping/grazing country)\nExamine plant root growth\nHow to improve soil moisture retention and infiltration\nImpact of soil compaction\nSoil properties that drive soil release\n\nExpert Speaker from Department of Resources\nDr Mark Sugars\nPrinciple Land Resource Officer \nSue-Ellen Dear\nSenior Land Resource Officer \nRachela Mura\nNatural Resource Management Officer \nLunch will be provided. \nLocation\n‘Venus Downs’ 10km along Blackwater Rolleston Road. \nRegistrations\nTo register for this event contact: Mohammad Ali \nMohammad.Ali@daf.qld.gov.au\nM: 0436 676 539 \nSoil Pit Day flyer
URL:https://futurebeef.com.au/event/importance-of-soils-rolleston/
LOCATION:Rolleston\, Rolleston\, Qld\, 4702\, Australia
CATEGORIES:Past event
ORGANIZER;CN="Mohammad Ali":MAILTO:Mohammad.Ali@daf.qld.gov.au
END:VEVENT
BEGIN:VEVENT
DTSTART;TZID=Australia/Brisbane:20240725T090000
DTEND;TZID=Australia/Brisbane:20240725T120000
DTSTAMP:20260423T042035
CREATED:20240628T042645Z
LAST-MODIFIED:20240812T052600Z
UID:59786-1721898000-1721908800@futurebeef.com.au
SUMMARY:Kilcummin - Soil Pit Day
DESCRIPTION:The Farm Business Resilience Program and the Sustainable Grains team invites you for a morning in the paddock to discuss the importance of soil structure\, identify soil constraints\, and management options for growing productive and profitable crops. \nWhat to expect.\n\nSoil characteristics of the region\nSoil fertility and health under different management\nExplore soil constraints (sealing and running-off\, hard setting\, soil carbon status in continuous cropping/grazing country)\nExamine plant root growth\nHow to improve soil moisture retention and infiltration\nImpact of soil compaction\nSoil properties that drive soil release\n\nExpert Speaker from Department of Resources\nDr Mark Sugars\nPrinciple Land Resource Officer \nSue-Ellen Dear\nSenior Land Resource Officer \nRachela Mura\nNatural Resource Management Officer \nLunch will be provided. \nLocation\nPast Mt McLaren grain depots\, head 1km North on the white gravel road. \nRegistrations\nTo register for this event contact: Mohammad Ali \nMohammad.Ali@daf.qld.gov.au\nM: 0436 676 539 \nSoil Pit Day flyer
URL:https://futurebeef.com.au/event/importance-of-soils-kilcummin/
LOCATION:Kilcummin\, Kilcummin\, QLD\, 4721\, Australia
CATEGORIES:Past event
ORGANIZER;CN="Mohammad Ali":MAILTO:Mohammad.Ali@daf.qld.gov.au
END:VEVENT
BEGIN:VEVENT
DTSTART;TZID=Australia/Brisbane:20240725T090000
DTEND;TZID=Australia/Brisbane:20240725T120000
DTSTAMP:20260423T042035
CREATED:20240812T052525Z
LAST-MODIFIED:20240812T052552Z
UID:60305-1721898000-1721908800@futurebeef.com.au
SUMMARY:Kilcummin - Soil Pit Day Copy
DESCRIPTION:The Farm Business Resilience Program and the Sustainable Grains team invites you for a morning in the paddock to discuss the importance of soil structure\, identify soil constraints\, and management options for growing productive and profitable crops. \nWhat to expect.\n\nSoil characteristics of the region\nSoil fertility and health under different management\nExplore soil constraints (sealing and running-off\, hard setting\, soil carbon status in continuous cropping/grazing country)\nExamine plant root growth\nHow to improve soil moisture retention and infiltration\nImpact of soil compaction\nSoil properties that drive soil release\n\nExpert Speaker from Department of Resources\nDr Mark Sugars\nPrinciple Land Resource Officer \nSue-Ellen Dear\nSenior Land Resource Officer \nRachela Mura\nNatural Resource Management Officer \nLunch will be provided. \nLocation\nPast Mt McLaren grain depots\, head 1km North on the white gravel road. \nRegistrations\nTo register for this event contact: Mohammad Ali \nMohammad.Ali@daf.qld.gov.au\nM: 0436 676 539 \nSoil Pit Day flyer
URL:https://futurebeef.com.au/event/importance-of-soils-kilcummin-copy/
LOCATION:Kilcummin\, Kilcummin\, QLD\, 4721\, Australia
CATEGORIES:Past event
ORGANIZER;CN="Mohammad Ali":MAILTO:Mohammad.Ali@daf.qld.gov.au
END:VEVENT
END:VCALENDAR