BEGIN:VCALENDAR
VERSION:2.0
PRODID:-//FutureBeef - ECPv6.5.1.5//NONSGML v1.0//EN
CALSCALE:GREGORIAN
METHOD:PUBLISH
X-WR-CALNAME:FutureBeef
X-ORIGINAL-URL:https://futurebeef.com.au
X-WR-CALDESC:Events for FutureBeef
REFRESH-INTERVAL;VALUE=DURATION:PT1H
X-Robots-Tag:noindex
X-PUBLISHED-TTL:PT1H
BEGIN:VTIMEZONE
TZID:Australia/Darwin
BEGIN:STANDARD
TZOFFSETFROM:+0930
TZOFFSETTO:+0930
TZNAME:ACST
DTSTART:20250101T000000
END:STANDARD
TZID:Australia/Brisbane
BEGIN:STANDARD
TZOFFSETFROM:+1000
TZOFFSETTO:+1000
TZNAME:AEST
DTSTART:20250101T000000
END:STANDARD
END:VTIMEZONE
BEGIN:VEVENT
DTSTART;VALUE=DATE:20250401
DTEND;VALUE=DATE:20250404
DTSTAMP:20260424T052414
CREATED:20250124T011911Z
LAST-MODIFIED:20250429T101528Z
UID:62380-1743465600-1743724799@futurebeef.com.au
SUMMARY:Grazing land management EDGE – Katherine
DESCRIPTION:If you’re ready to take your grazing business to the next level\, the Grazing land management EDGE workshop is the perfect opportunity! \nOver three days\, you’ll gain a comprehensive understanding of grazing land management and the tools needed to strategically manage your land and business for long-term productivity and sustainability. \nFor more information\, download Grazing land management EDGE workshop – Katherine (PDF\, 500KB) \nPresented by: \n\nTrudi Oxley\, Upriver NT\nDionne Walsh\, Range IQ\n\nTo register\, please email: \n\ntrudi@uprivernt.com\ndionne@rangeiq.com.au
URL:https://futurebeef.com.au/event/glm-edge-katherine-2025/
LOCATION:To be confirmed\, Australia
CATEGORIES:Past event
END:VEVENT
BEGIN:VEVENT
DTSTART;TZID=Australia/Brisbane:20250401T090000
DTEND;TZID=Australia/Brisbane:20250401T160000
DTSTAMP:20260424T052414
CREATED:20250319T020910Z
LAST-MODIFIED:20250429T101504Z
UID:63195-1743498000-1743523200@futurebeef.com.au
SUMMARY:FBA Resilient Grazing Field Day - Springsure
DESCRIPTION:Get into the paddock and learn how to make important production decisions that will improve the resilience of your grazing business.\nThese hands-on field days offer proven solutions for CQ graziers managing central Queensland land.\nLearn: \n\nMeasure available feed in your paddock (forage budgeting)\nAssess land condition and easy improvement methods\nUnderstand soil health and how to boost it\nImprove soil for better production\nUse weather and climate forecasts effectively\nTools\, tricks and key CQ contacts\nHow FBA can help you achieve your goals\n\nKey Speakers: \n\nRoss Newman (Pasture Agronomist)\nDhiraj Gajera (Agricultural Scientist)\nSheree Johnston (FBA’s Land Management Officer)\nGrace Wickson (FBA’s Climate Mate)\n\nMorning tea and lunch provided.\nPlease bring a hat\, water bottle\, chair and wear paddock appropriate clothing and footwear. \nRegister for the event here
URL:https://futurebeef.com.au/event/fba-resilient-grazing-field-day-springsure/
LOCATION:Manalee\, Glenlee Road\, Springsure\, QLD\, 4722\, Australia
CATEGORIES:Past event
ORGANIZER;CN="Fitzroy Basin Association":MAILTO:Katlin.Tilly@fba.org.au
END:VEVENT
BEGIN:VEVENT
DTSTART;TZID=Australia/Brisbane:20250403T090000
DTEND;TZID=Australia/Brisbane:20250403T160000
DTSTAMP:20260424T052414
CREATED:20250319T020933Z
LAST-MODIFIED:20250429T101358Z
UID:63203-1743670800-1743696000@futurebeef.com.au
SUMMARY:FBA Resilient Grazing Field Day - Wowan
DESCRIPTION:Get into the paddock and learn how to make important production decisions that will improve the resilience of your grazing business.\nThese hands-on field days offer proven solutions for CQ graziers managing central Queensland land.\nLearn: \n\nMeasure available feed in your paddock (forage budgeting)\nAssess land condition and easy improvement methods\nUnderstand soil health and how to boost it\nImprove soil for better production\nUse weather and climate forecasts effectively\nTools\, tricks and key CQ contacts\nHow FBA can help you achieve your goals\n\nKey Speakers: \n\nRoss Newman (Pasture Agronomist)\nDhiraj Gajera (Agricultural Scientist)\nSheree Johnston (FBA’s Land Management Officer)\nGrace Wickson (FBA’s Climate Mate)\n\nMorning tea and lunch provided.\nPlease bring a hat\, water bottle\, chair and wear paddock appropriate clothing and footwear. \nRegister for the event here
URL:https://futurebeef.com.au/event/fba-resilient-grazing-field-day-wowan/
LOCATION:Lone Pine\, 266 Buneru Road\, Wowan\, QLD\, 4702
CATEGORIES:Past event
ORGANIZER;CN="Fitzroy Basin Association":MAILTO:Katlin.Tilly@fba.org.au
END:VEVENT
BEGIN:VEVENT
DTSTART;TZID=Australia/Brisbane:20250409T090000
DTEND;TZID=Australia/Brisbane:20250410T153000
DTSTAMP:20260424T052414
CREATED:20250121T234453Z
LAST-MODIFIED:20250429T101342Z
UID:62327-1744189200-1744299000@futurebeef.com.au
SUMMARY:Grazing Management Workshops - Dick Richardson - Tarzali\, Atherton Tableands
DESCRIPTION:Join us in the Tarzali region for two grazing workshops with Dick Richardson on Tuesday 9 April and Wednesday 10 April…\n\n\nGraziers from across the region are encouraged to come to these free events\, which will focus on ways to optimise cattle and pasture performance. \nTerrain NRM is bringing grazing guru Dick Richardson back to the region for these events – the first for those who haven’t been to one of his workshops before\, or want a refresher\, and the second for those who’ve been before and want to delve deeper.  We will be looking at everything from reading animal\, dung and pasture condition to stock movement and assessing feed availability. \nDick Richardson is an internationally recognised leader in natural grazing principles to improve soil depth\, water retention\, biodiversity and animal production. \nHe has been helping graziers in our region for more than five years. \nDuring the workshops\, which will run from 9am to 3:30pm\, there will also be plenty of time to ask questions\, share experiences and ideas. \nRegister for a workshop\, or find out more\, by emailing Terrain NRM’s Duncan Buckle at duncan.buckle@terrain.org.au or calling Terrain NRM on (07) 4043 8000.
URL:https://futurebeef.com.au/event/grazing-management-workshops-dick-richardson-tarzali-atherton-tableands/
LOCATION:Tarzali\, Tarzali\, Queensland\, 4885\, Australia
CATEGORIES:Past event
END:VEVENT
BEGIN:VEVENT
DTSTART;TZID=Australia/Brisbane:20250414T083000
DTEND;TZID=Australia/Brisbane:20250414T140000
DTSTAMP:20260424T052414
CREATED:20250128T014731Z
LAST-MODIFIED:20250429T101336Z
UID:62421-1744619400-1744639200@futurebeef.com.au
SUMMARY:Grazing resilience and sustainable solutions workshop — Gympie
DESCRIPTION:The Department of Primary Industries invites you to participate in the GRASS project. This event offers hands-on support to: \n\ndevelop an Action Plan for Land Management\ncreate\, review or update\, property maps\nunderstand requirements of reef legislation\nreview property FORAGE reports\nexplore strategies to reduce erosion\, enhance paddock productivity and strengthen business resilience.\n\nAdditional support\nExpert advice is available for erosion rehabilitation\, with potential funding opportunities for on-ground erosion control\, riparian fencing and off-stream watering. \nRegistration\nTo ensure we can prepare your property maps and reports in advance\, please complete the registration form. Property visits are scheduled for the 19-21 March. During registration you’ll be asked to confirm your availability. \nThis day is brought to you by the Grazing Resilience and Sustainable Solutions (GRASS) project funded through the Queensland Government’s Reef Water Quality Program.
URL:https://futurebeef.com.au/event/grazing-resilience-and-sustainable-solutions-workshop-gympie/
LOCATION:Gympie\, Gympie\, Qld\, 4570\, Australia
CATEGORIES:Past event
ORGANIZER;CN="Kate Brown":MAILTO:kate.brown@daf.qld.gov.au
END:VEVENT
BEGIN:VEVENT
DTSTART;VALUE=DATE:20250428
DTEND;VALUE=DATE:20250430
DTSTAMP:20260424T052414
CREATED:20250326T015017Z
LAST-MODIFIED:20250429T101257Z
UID:63280-1745798400-1745971199@futurebeef.com.au
SUMMARY:Goondiwindi - Carbon EDGE Workshop
DESCRIPTION:Carbon EDGE\nTaking Carbon from a concept to an action plan\nCarbon EDGE is a new training program for the red meat industry. Understand the opportunities for emissions reduction and carbon storage in your livestock business.\nUse your own information to develop an action plan for your business. \n  \nAttending this workshop will help you learn: \n\nKey terminology and concepts relating to greenhouses gases (GHG) within the red meat industry.\nIn-depth information on the practices to reduce and sequester GHG within a livestock grazing business.\nWeighing up opportunities and risks associated with generating carbon credits and how they can be used to benefit livestock businesses.\nUnderstanding carbon neutrality and how it aligns to your business goals.\nDeveloping a carbon action plan that incorporates practical\, achievable strategies to meet your objectives.\n\n  \nWorkshop inclusion: \n\nGuidance of expert deliverers.\nIndividualised information and small group learning.\nPractical activities.\nCase studies\, data and examples for your region.\nA participant manual\, template and other handy resources to take home.\n\n  \nPre-workshop preperation. \nThe design of the Carbon EDGE workshop recognises that everyone will be at a different starting point when it comes to carbon.\nHowever\, it is highly recommended that participants complete pre-work before attending to get the best out of the program.\nThis includes the eLearning modules available on MLA’s Toolbox and a carbon account.\nYour workshop deliverer will be in touch to guide you through this process. \n  \nCost for this workshop is $500 + GST for producers (discounted from $1\,750 + GST). \nRegister for this event here
URL:https://futurebeef.com.au/event/goondiwindi-carbon-edge-workshop/
LOCATION:Goondiwindi\, Goondiwindi\, QLD\, 4390\, Australia
CATEGORIES:Past event
END:VEVENT
BEGIN:VEVENT
DTSTART;TZID=Australia/Brisbane:20250430T090000
DTEND;TZID=Australia/Brisbane:20250430T153000
DTSTAMP:20260424T052414
CREATED:20250217T013642Z
LAST-MODIFIED:20250513T033301Z
UID:62616-1746003600-1746027000@futurebeef.com.au
SUMMARY:Future ready workshop — Charleville
DESCRIPTION:Join RCS for an opportunity for like-minded people to gather on a property to discuss topics relevant to the Charleville region and see firsthand how RCS principles are being applied in similar land types and production systems. \nAt the Charleville Future ready workshop\, attendees will have the opportunity to discuss: \n\nThe fundamentals of building soil health and its relationship with business economic resilience.\nHow to assess paddock health\, energy and water efficiencies.\nImproved Grazing Land Management project progress inspection: High-density time-controlled grazing and Recovering clay pans with natural sequence farming.\n\nA Future ready workshop is an initiative under the Queensland Government’s Regional Economic Futures Fund designed to help farmers and land managers develop practical and innovative solutions for a sustainable future. RCS delivers the workshops. \nKey Features\nFuture ready workshops: \n\nfocus on practicality\nstimulating ideation\nexpert facilitation.\n\nDetails\nHosts: Will and Sasha Treloar (WAS Pastoral Company) \nBYO: Chair\, water and hat \nDate: Wednesday 30th April\, 2025 \nRegister by: Friday 24th April\, 2025 \nIf you would like to attend and are not sure if your name is on the RSVP list\, please contact the RCS office on 1800 356 004 or info@rcsaustralia.com.au \nCost\nTickets are $27.50 each. \nAgenda\n9:00am Registration and cuppa \n9:30am Welcome and facilitated discussion \n10:30am Smoko provided \n10:50am Property tour and discussion \n1:20pm Lunch provided \n1:50pm Facilitated discussion \n2:45pm Final thoughts \n3:00pm Wrap up and finish \nFor more information or to discuss having an RCS Day in your region\, please contact our team. \nGot questions?\nIf you want to know more about this event\, contact RCS Australia. \n  \n 
URL:https://futurebeef.com.au/event/future-ready-workshop-charleville/
LOCATION:Western Australia
CATEGORIES:Past event
ORGANIZER;CN="RCS - Resource Consulting Services":MAILTO:info@rcsaustralia.com.au
END:VEVENT
END:VCALENDAR