BEGIN:VCALENDAR
VERSION:2.0
PRODID:-//FutureBeef - ECPv6.5.1.5//NONSGML v1.0//EN
CALSCALE:GREGORIAN
METHOD:PUBLISH
X-WR-CALNAME:FutureBeef
X-ORIGINAL-URL:https://futurebeef.com.au
X-WR-CALDESC:Events for FutureBeef
REFRESH-INTERVAL;VALUE=DURATION:PT1H
X-Robots-Tag:noindex
X-PUBLISHED-TTL:PT1H
BEGIN:VTIMEZONE
TZID:Australia/Brisbane
BEGIN:STANDARD
TZOFFSETFROM:+1000
TZOFFSETTO:+1000
TZNAME:AEST
DTSTART:20250101T000000
END:STANDARD
END:VTIMEZONE
BEGIN:VEVENT
DTSTART;VALUE=DATE:20250807
DTEND;VALUE=DATE:20250814
DTSTAMP:20260423T223953
CREATED:20240923T021027Z
LAST-MODIFIED:20251127T064659Z
UID:60969-1754524800-1755129599@futurebeef.com.au
SUMMARY:GrazingforProfit - Roma
DESCRIPTION:GrazingforProfit® is Australia’s longest-running business program for the grazing industry. With over 8\,000 graduates\, it is also the most attended farm management program conducted in rural Australia. \nA 360-Degree Approach: \nGrazingforProfit® takes a comprehensive view\, encompassing all factors influencing your enterprise’s success. From climate variability to market fluctuations\, we equip you to make informed decisions that embrace the entirety of your business environment. \nThree reasons you should register today!\n\nCan’t say enough good things about RCS. Knowledge of presenters was fantastic. Course I believe every grazier should do. Follow up and information attendees can access is great! Walt\nA grazing or Farming for Profit course has the highest return on any education $ you will ever spend. RCS provides across the board education tools and backup that\, without doubt helps agricultural businesses to become more profitable\, sustainable and better prepared to bounce back after droughts\, downturns and floods. Brian\nBest well-rounded course. Honestly the best well-rounded course I have ever taken. I loved how immersive it was to make us really zone in on our businesses. It made me look at our numbers with different eyes and consider all aspects of our grazing business\, not just tax and cashflow. It gave me more tools and understanding than I ever thought was possible. This gives us confidence with our decision making and future. Janeta\n\n\nCost\nEarly Bird: $4979 (available until 13 June 2025)\n\n\nStandard: $5\,499 \nSecure your spot today!
URL:https://futurebeef.com.au/event/grazingforprofit-roma-2/
LOCATION:Roma Explorers Inn\, 44778 Warrego Highway\, Roma\, Qld\, 4455\, Australia
CATEGORIES:Past event
ORGANIZER;CN="RCS - Resource Consulting Services":MAILTO:info@rcsaustralia.com.au
END:VEVENT
BEGIN:VEVENT
DTSTART;TZID=Australia/Brisbane:20250814T083000
DTEND;TZID=Australia/Brisbane:20250814T123000
DTSTAMP:20260423T223953
CREATED:20250714T035411Z
LAST-MODIFIED:20251127T064817Z
UID:64636-1755160200-1755174600@futurebeef.com.au
SUMMARY:Carbon\, Water & Grazing: On-Farm Insights for a Resilient Future
DESCRIPTION:Discover the advantages of grazing for carbon capture. Jo Owens from JCU will share valuable insights from Fletcherview Station\, along with practical tips from DPI regarding legume utilization and pasture management strategies. Register today to enhance your farm management and uncover new business opportunities. \nDate: 14 August \nTime: 8.30 – 12.30pm (arrival from 8am) \nLocation: Fletcherview Research Station\, Gregory Developmental Rd\, Basalt QLD 4820 \nTea\, coffee\, and BBQ lunch provided \nSee full event flyer here
URL:https://futurebeef.com.au/event/carbon-water-grazing-on-farm-insights-for-a-resilient-future/
LOCATION:Fletcherview Research Station JCU\, Lynd Highway\, Basalt\, Qld\, 4820\, Australia
CATEGORIES:Past event
ORGANIZER;CN="Toni Cottle":MAILTO:toni.cottle@dpi.gov.au
END:VEVENT
BEGIN:VEVENT
DTSTART;TZID=Australia/Brisbane:20250826T080000
DTEND;TZID=Australia/Brisbane:20250828T170000
DTSTAMP:20260423T223954
CREATED:20250625T032940Z
LAST-MODIFIED:20251127T064944Z
UID:64488-1756195200-1756400400@futurebeef.com.au
SUMMARY:Grazing Land Management EDGE - Kingaroy
DESCRIPTION:Grazing land management (GLM) EDGE is a three-day workshop to give you a thorough understanding of the grazing land environment in which you operate – it will provide you with knowledge to strategically manage your grazing business so you can optimise your land condition and productivity in the long-term. \nTo see the full event flyer click here. \n 
URL:https://futurebeef.com.au/event/grazing-land-management-edge-kingaroy/
LOCATION:DPI Kingaroy Research Facility\, 214 Kingaroy-Cooyar Road\, Kingaroy\, Qld\, 4610\, Australia
CATEGORIES:Past event
ORGANIZER;CN="Alex Thomson - DPI":MAILTO:alexandra.thomson@dpi.qld.gov.au
END:VEVENT
END:VCALENDAR