BEGIN:VCALENDAR
VERSION:2.0
PRODID:-//FutureBeef - ECPv6.5.1.5//NONSGML v1.0//EN
CALSCALE:GREGORIAN
METHOD:PUBLISH
X-ORIGINAL-URL:https://futurebeef.com.au
X-WR-CALDESC:Events for FutureBeef
REFRESH-INTERVAL;VALUE=DURATION:PT1H
X-Robots-Tag:noindex
X-PUBLISHED-TTL:PT1H
BEGIN:VTIMEZONE
TZID:Australia/Brisbane
BEGIN:STANDARD
TZOFFSETFROM:+1000
TZOFFSETTO:+1000
TZNAME:AEST
DTSTART:20260101T000000
END:STANDARD
END:VTIMEZONE
BEGIN:VEVENT
DTSTART;VALUE=DATE:20260602
DTEND;VALUE=DATE:20260603
DTSTAMP:20260423T130958
CREATED:20260409T061637Z
LAST-MODIFIED:20260409T061637Z
UID:70977-1780358400-1780444799@futurebeef.com.au
SUMMARY:Soil erosion control workshop — Hughenden
DESCRIPTION:Southern Gulf NRM is hosting Soil erosion control workshops this June with guest speaker Darryl Hill – sharing practical\, on-ground strategies to manage erosion\, reduce soil loss\, and recover after extreme weather. \nKey learnings will include: \n\nHow to identify soil types\, limitations and risks to soil integrity.\nHow to avoid and mitigate erosion on fence lines and access tracks.\nHow to limit soil and silt loss during extreme weather events.\nHow to treat flood-related washouts and erosion to restore agricultural productivity.\nHow to manage and recover flood damaged grazing land.\n\nWhere: \n Dunluce Station\, Hughenden – 2 June Rocklands Station\, Camooweal – 4 June \nWhat to bring:Morning tea and lunch provided (just bring a chair).RSVP by 15 May to secure your spot. Contact Emily Turner or 0436 623 696.
URL:https://futurebeef.com.au/event/soil-erosion-control-workshop-hughenden/
LOCATION:Dunluce Station\, Flinders Highway\, Hughenden\, Qld\, 4821\, Australia
CATEGORIES:Land and pastures
ORGANIZER;CN="Southern Gulf NRM":MAILTO:grazing@southerngulf.com.au
END:VEVENT
BEGIN:VEVENT
DTSTART;VALUE=DATE:20260604
DTEND;VALUE=DATE:20260605
DTSTAMP:20260423T130958
CREATED:20260409T061658Z
LAST-MODIFIED:20260409T062421Z
UID:70980-1780531200-1780617599@futurebeef.com.au
SUMMARY:Soil erosion control workshop — Camooweal
DESCRIPTION:Southern Gulf NRM is hosting Soil erosion control workshops this June with guest speaker Darryl Hill – sharing practical\, on-ground strategies to manage erosion\, reduce soil loss\, and recover after extreme weather. \nKey learnings will include: \n\nHow to identify soil types\, limitations and risks to soil integrity.\nHow to avoid and mitigate erosion on fence lines and access tracks.\nHow to limit soil and silt loss during extreme weather events.\nHow to treat flood-related washouts and erosion to restore agricultural productivity.\nHow to manage and recover flood damaged grazing land.\n\nWhere: \n Dunluce Station\, Hughenden – 2 June Rocklands Station\, Camooweal – 4 June \nWhat to bring:Morning tea and lunch provided (just bring a chair).RSVP by 15 May to secure your spot. Contact Emily Turner or 0436 623 696.
URL:https://futurebeef.com.au/event/soil-erosion-control-workshop-camooweal/
LOCATION:Rocklands\, Camooweal\, Queensland\, 4828\, Australia
CATEGORIES:Land and pastures
ORGANIZER;CN="Southern Gulf NRM":MAILTO:grazing@southerngulf.com.au
END:VEVENT
BEGIN:VEVENT
DTSTART;TZID=Australia/Brisbane:20260609T081500
DTEND;TZID=Australia/Brisbane:20260610T180000
DTSTAMP:20260423T130958
CREATED:20260326T011226Z
LAST-MODIFIED:20260420T004931Z
UID:70791-1780992900-1781114400@futurebeef.com.au
SUMMARY:Unlocking Your Landscape Potential — Biloela
DESCRIPTION:FBA is hosting a 2-day land manager masterclass\, designed specifically for CQ landscapes and the people who care for them.\nThis hands-on masterclass focuses on how you can help your country to harness more water\, build healthier soil and grow better feed. Over two practical days\, you’ll learn how to slow water down\, support natural processes and manage livestock in ways that work with your land. \nWhat you’ll learn\n\nHow to read your landscape and understand water movement\nNatural Sequence Farming techniques to rehydrate\nGrazing practices that strengthen soil health and plant recovery\nHow water and grazing decisions influence each other\nPractical tools: forage budgeting\, sequencing and getting started\nHow better hydration + grazing improves productivity\nHow FBA can support your next steps on ground\n\nWho you’ll hear from\n\nDick Richardson – Grazing Naturally\nStuart Andrews – Natural Sequence Farming\nTogether with FBA\, they’ll share easy to apply methods for rehydrating landscapes\, improving grazing outcomes and strengthening long-term productivity.\n\nWorkshop details\nDate: 9-10 June 2026 \nDay 1: 8:15am – 6:00pm \nDay 2: 7:00am – 4:30pm \nVenue: Biloela Civic Centre\, 96 Rainbow St\, Biloela Queensland 4715 \nHow to register
URL:https://futurebeef.com.au/event/unlocking-your-landscape-potential-biloela/
LOCATION:Biloela Civic Centre\, 96 Rainbow St\, Biloela\, Biloela\, Qld\, 4715\, Australia
CATEGORIES:Land and pastures
ORGANIZER;CN="Fitzroy Basin Association":MAILTO:Katlin.Tilly@fba.org.au
END:VEVENT
END:VCALENDAR